BEGIN:VCALENDAR
PRODID:-//TERMINALFOUR//SITEMANAGER V8.1//EN
VERSION:2.1
TZ:+00
BEGIN:VEVENT
DTSTART:20260521T18:00:00 +0100
DTEND:20260521T19:30:00 +0100
LOCATION:AGBC Conference Room, 
UHI Moray,
Moray Street,
Elgin
Moray
IV30 1JJ
DESCRIPTION:Join us for an interactive evening focused on Integrative Healthcare and the growing role of complementary therapies in supporting health and wellbeing.
SUMMARY:Integrative Healthcare in the Community
END:VEVENT
END:VCALENDAR