BEGIN:VCALENDAR
PRODID:-//TERMINALFOUR//SITEMANAGER V8.1//EN
VERSION:2.1
TZ:+00
BEGIN:VEVENT
DTSTART:20260528T15:30:00 +0100
DTEND:20260528T17:30:00 +0100
LOCATION:Linkwood Road, 
Elgin, 
IV30 6DJ
DESCRIPTION:Interested in engineering and want to see what our courses are really like? Our Engineering Open Evening offers an interactive way to explore your options.
SUMMARY:Engineering Open Evening
END:VEVENT
END:VCALENDAR