BEGIN:VCALENDAR
PRODID:-//TERMINALFOUR//SITEMANAGER V8.1//EN
VERSION:2.1
TZ:+00
BEGIN:VEVENT
DTSTART:20260429T14:00:00 +0100
DTEND:20260429T17:00:00 +0100
LOCATION:UHI Moray
Moray Street
Elgin
Moray
IV30 1JJ
DESCRIPTION:
SUMMARY:External Catering Tender Event
END:VEVENT
END:VCALENDAR